Workbook
Name County: 'OFFICE USE ONLY'!$A$10:$A$129
Name Event_Type: 'OFFICE USE ONLY'!$C$31:$C$32
Name Expense_Type: 'OFFICE USE ONLY'!$C$3:$C$24
Name gf: '[1]OFFICE USE ONLY'!$A$12:$A$131
Name REPORT_TYPE: 'OFFICE USE ONLY'!$A$3:$A$7
Name Type_of_Event: 'OFFICE USE ONLY'!#REF!
Name Y_N: 'OFFICE USE ONLY'!$C$27:$C$28

Sheet Instructions
J1: ='CG Fin Report'!J1 -> CG-FIN-ORG
J2: ='CG Fin Report'!J2 -> Rev 10/26
A5: LICENSED CHARITABLE ORGANIZATION FINANCIAL REPORT
A7: As outlined in KRS 238.550, all licensed charitable organziations that have annual gross receipts of $200,000 or less and do not have a weekly bingo session shall submit an annual financial report. All other licensed charitable organizations shall submit financial reports on a quarterly basis.
A9: Accurate records and books shall be maintained by each organization at their office/location in the Commonwealth of Kentucky, and the information submitted on the financial report should agree with the organization's books and records. KHRG staff shall have access to any records as requested/needed.
A11: The Licensed Charitable Organization Financial Report consists of the following forms/reports included in each of the individual worksheets of this Excel file/spreadsheet:
B12: CG Fin Report
B13: (A) Gaming Account Info
B14: (B) Bingo Activity
B15: (C) Pulltab Activity
B16: (D) Other Pulltab Activity
B17: (E) Raffles & NC Prize Wheels
B18: (F) Special Lic Activity
B19: (G) Contrib & Transfers
B20: (H) Winners of $600+
B21: (I) Pulltab Inventory
B22: (J) Bingo Inventory
A24: Please note the forms include formulas and locked cells shaded in blue. Please complete the information in the cells without shading on each of the individual worksheets listed above. The totals from each individual worksheet are used on the CG Fin Report to complete the required calculations for the report. If additional pages are needed to provide/report the information, please total the amounts from the additional pages and include in the provided last line of the chart/table included on the worksheet. Financial reports should be completed electronically due to the calculations incorporated into the form and attachments.
A26: Please complete the information on all worksheets, including the attachment of any additional sheets if necessary, and obtain the required signatures on the CG Fin Report for submission via email to DCG.Accounting@ky.gov or mail to the address below. If an attachment is not applicable, a box is included at the top of the sheet to indicate "N/A." To electronically sign the reports, please insert "/s/" before the typed name of the individual in the signature line.
B28: KHRG
B29: Office of Charitable Gaming
B30: 4047 Iron Works Parkway
B31: Lexington, KY 40511
A33: The Financial Report Fee Due is calculated on the CG Fin Report and should be included with the report submission.
A35: Reporting Deadline Submssions are:
B37: Annual Reports for December 31st calendar year | H37: DUE: January 31st
B39: Quarterly Reports for 1st Quarter ending March 31st | H39: DUE: April 30th
B40: Quarterly Reports for 2nd Quarter ending June 30th | H40: DUE: July 31st
B41: Quarterly Reports for 3rd Quarter ending September 30th | H41: DUE: October 31st
B42: Quarterly Reports for 4th Quarter ending December 31st | H42: DUE: January 31st

Sheet CG Fin Report
A1: For Office Use Only: | J1: CG-FIN-ORG
A2: Checked | J2: Rev 10/26
A3: Approved
A5: LICENSED CHARITABLE ORGANIZATION FINANCIAL REPORT
A7: Report Type: | I7: Year:
A9: LICENSE INFORMATION
B10: License Number | D10: Name of Organization
A11: ORG
B12: Street Address
B14: City | E14: State | F14: Zip Code | H14: County
A17: Summary of All Charitable Gaming Receipts & Payouts
A18: Information included in the chart below is pulled from the individual worksheets for each gaming activity.
A19: Gaming Activity | C19: Gross Receipts | E19: All Payouts by Cash & Check | G19: Purchased Prizes | I19: Adjusted Gross Receipts
A20: Bingo | C20: ='(B) Bingo Activity'!O43 -> 0 | E20: ='(B) Bingo Activity'!O81 -> 0 | G20: ='(B) Bingo Activity'!P81 -> 0 | I20: =C20-E20-G20 -> 0
A21: Pulltabs | C21: ='(C) Pulltab Activity'!O44+'(D) Other Pulltab Activity'!P43 -> 0 | E21: ='(C) Pulltab Activity'!O83+'(D) Other Pulltab Activity'!Q43 -> 0 | G21: ='(C) Pulltab Activity'!P83+'(D) Other Pulltab Activity'!R43 -> 0 | I21: =C21-E21-G21 -> 0
A22: Electronic Pulltabs | C22: ='(C) Pulltab Activity'!P44+'(D) Other Pulltab Activity'!P81 -> 0 | E22: ='(C) Pulltab Activity'!Q83+'(D) Other Pulltab Activity'!Q81 -> 0 | G22: ='(D) Other Pulltab Activity'!R81 -> 0 | I22: =C22-E22-G22 -> 0
A23: Raffles | C23: ='(E) Raffles & NC Prize Wheels'!O23 -> 0 | E23: ='(E) Raffles & NC Prize Wheels'!P23 -> 0 | G23: ='(E) Raffles & NC Prize Wheels'!Q23 -> 0 | I23: =C23-E23-G23 -> 0
A24: Non Cash Prize Wheels | C24: ='(E) Raffles & NC Prize Wheels'!O41 -> 0 | G24: ='(E) Raffles & NC Prize Wheels'!P41 -> 0 | I24: =C24-G24 -> 0
A25: Special License | C25: ='(F) Special Lic Activity'!N21 -> 0 | E25: ='(F) Special Lic Activity'!O21 -> 0 | G25: ='(F) Special Lic Activity'!P21 -> 0 | I25: =C25-E25-G25 -> 0
A26: Returned Checks Collected | I26: =C26 -> 0
A27: Less: Returned Checks | I27: =C27 -> 0
A28: TOTAL | C28: =SUM(C20:D27) -> 0 | E28: =SUM(E20:F23)+E25 -> 0 | G28: =SUM(G20:H25) -> 0 | I28: =SUM(I20:J27) -> 0
B30: PLEASE PAY | C30: =C28*I30 -> 0 | E30: FEE DUE | H30: Total Gross Receipts x | I30: 0.0053
A32: Summary of All Charitable Gaming Expenses
A33: Information included in the chart below is pulled from the individual worksheet for the Gaming Account Info.
A34: Expenses Used in the 40% Calculation
A35: Purchase or Rental of Bingo Paper, Pulltabs, Electronic Pulltabs, Equipment & Card Minding | I35: ='(A) Gaming Account Info'!L106+'(A) Gaming Account Info'!Z106 -> 0
A36: Facility Rent | I36: ='(A) Gaming Account Info'!M106 -> 0
A37: Janitorial Services | I37: ='(A) Gaming Account Info'!N106 -> 0
A38: Security | I38: ='(A) Gaming Account Info'!O106 -> 0
A39: Accounting & Bookkeeping Services | I39: ='(A) Gaming Account Info'!P106 -> 0
A40: Payments to Chairperson(s) for ID Checks | I40: ='(A) Gaming Account Info'!Q106 -> 0
A41: Payments to Chairperson(s) to attend KHRG Training(s) | I41: ='(A) Gaming Account Info'!R106 -> 0
A42: Advertising & Promotions | I42: ='(A) Gaming Account Info'!S106 -> 0
A43: Fees for Bank, Credit Card, Check Verification & Bad Check Collection | I43: ='(A) Gaming Account Info'!T106 -> 0
A44: Printing | I44: ='(A) Gaming Account Info'!U106 -> 0
A45: Volunteer Food, Clothing & Raffle Sellers Incentive | I45: ='(A) Gaming Account Info'!V106 -> 0
A46: Utilities (Telephone, Electric, Gas, Water, Sewer, Trash) | I46: ='(A) Gaming Account Info'!W106 -> 0
A47: Insurance | I47: ='(A) Gaming Account Info'!X106 -> 0
A48: Fines to Charitable Gaming | I48: ='(A) Gaming Account Info'!Y106 -> 0
...

Sheet (A) Gaming Account Info
A1: License | B1: ='CG Fin Report'!A11 -> ORG | C1: =IF('CG Fin Report'!B11="", "", 'CG Fin Report'!B11) | J1: CG-FIN-ORG Attachment A
A2: Org Name | B2: =IF('CG Fin Report'!D11="", "", 'CG Fin Report'!D11) | J2: ='CG Fin Report'!J2 -> Rev 10/26
A4: CHARITABLE GAMING ACCOUNT INFORMATION
A6: Name of Financial Institution | H6: Checkbook Balance as of End of Previous Quarter
H7: Total Deposits (detailed below) | I7: =G49 -> 0
A8: City | D8: State | H8: Total Payments (detailed below) | I8: =G106 -> 0
H9: Bank Charges not included below
A10: Account Number | H10: Returned Checks not included below
H11: Other - list payments as negative amount
A12: Persons Authorized to Sign for the Account | H12: Checkbook Balance as of End of Current Quarter | I12: =I6+I7-I8-I9-I10+I11 -> 0
A13: Name | D13: Title
A19: Listing of All Deposits into the Separate Charitable Gaming Account
A20: Provide information below for all deposits or funds received into the bank account listed above. This information should agree to your bank statement. Attach additional copies of this chart if necessary and include the totals from the additional copies in the line included at the end of the table.
A21: Date | B21: Check # / ACH | C21: Payee | G21: Deposit Amount | H21: Description of Deposit
K22: =IF(G22="", "", IF(H22="", "Description of Deposit is required", ""))
K23: =IF(G23="", "", IF(H23="", "Description of Deposit is required", ""))
K24: =IF(G24="", "", IF(H24="", "Description of Deposit is required", ""))
K25: =IF(G25="", "", IF(H25="", "Description of Deposit is required", ""))
K26: =IF(G26="", "", IF(H26="", "Description of Deposit is required", ""))
K27: =IF(G27="", "", IF(H27="", "Description of Deposit is required", ""))
K28: =IF(G28="", "", IF(H28="", "Description of Deposit is required", ""))
K29: =IF(G29="", "", IF(H29="", "Description of Deposit is required", ""))
K30: =IF(G30="", "", IF(H30="", "Description of Deposit is required", ""))
K31: =IF(G31="", "", IF(H31="", "Description of Deposit is required", ""))
K32: =IF(G32="", "", IF(H32="", "Description of Deposit is required", ""))
K33: =IF(G33="", "", IF(H33="", "Description of Deposit is required", ""))
... K47: =IF(G47="", "", IF(H47="", "Description of Deposit is required", ""))
A48: Total from the attachments for Deposits | H48: See attachments
A49: TOTAL DEPOSITS | G49: =SUM(G22:G48) -> 0
A51: Listing of All Payments out of the Separate Charitable Gaming Account
A52: Provide information below for all payments or withdrawal of funds out of the bank account listed above. This information should agree to your bank statement. If one payment includes multiple expense types, please break the payment down and list by expense type. Attach additional copies of this chart if necessary and include the totals from the additional copies in the section included at the end of the table.
A53: Date | B53: Check # / ACH | C53: Payee | G53: Payment Amount | H53: Expense Type | L53: Purchase or Rental of Bingo Paper, Pulltabs, Electronic Pulltabs, Equipment & Card Minding | M53: Facility Rent | N53: Janitorial Services | O53: Security | P53: Accounting & Bookkeeping Services | Q53: Payments to Chairperson(s) for ID Checks | R53: Payments to Chairperson(s) to attend KHRG Training(s) | S53: Advertising & Promotions | T53: Fees for Bank, Credit Card, Check Verification & Bad Check Collection | U53: Printing | V53: Volunteer Food, Clothing & Raffle Sellers Incentive | W53: Utilities (Telephone, Electric, Gas, Water, Sewer, Trash) | X53: Insurance | Y53: Fines to Charitable Gaming | Z53: Sales/Use Tax on Gaming Supplies & Equipment | AA53: Fees to Charitable Gaming | AB53: Prizes Purchased | AC53: Prizes Awarded by Check/ACH | AD53: Federal Excise Tax | AE53: Charitable Contributions | AF53: Transfers to General Account | AG53: Start-up Cash
K54: =IF(G54="", "", IF(H54="", "Expense Type selection is required - if left blank, please provide separate written explanation", "")) | L54: =IF(H54=$L$53, G54, 0) -> 0 | M54: =IF(H54=$M$53, G54, 0) -> 0 | N54: =IF(H54=$N$53, G54, 0) -> 0 | O54: =IF(H54=$O$53, G54, 0) -> 0 | P54: =IF(H54=$P$53, G54, 0) -> 0 | Q54: =IF(H54=$Q$53, G54, 0) -> 0 | R54: =IF(H54=$R$53, G54, 0) -> 0 | S54: =IF(H54=$S$53, G54, 0) -> 0 | T54: =IF(H54=$T$53, G54, 0) -> 0 | U54: =IF(H54=$U$53, G54, 0) -> 0 | V54: =IF(H54=$V$53, G54, 0) -> 0 | W54: =IF(H54=$W$53, G54, 0) -> 0 | X54: =IF(H54=$X$53, G54, 0) -> 0 | Y54: =IF(H54=$Y$53, G54, 0) -> 0 | Z54: =IF(H54=$Z$53, G54, 0) -> 0 | AA54: =IF(H54=$AA$53, G54, 0) -> 0 | AB54: =IF(H54=$AB$53, G54, 0) -> 0 | AC54: =IF(H54=$AC$53, G54, 0) -> 0 | AD54: =IF(H54=$AD$53, G54, 0) -> 0 | AE54: =IF(H54=$AE$53, G54, 0) -> 0 | AF54: =IF(H54=$AF$53, G54, 0) -> 0 | AG54: =IF(H54=$AG$53, G54, 0) -> 0
K55: =IF(G55="", "", IF(H55="", "Expense Type selection is required - if left blank, please provide separate written explanation", "")) | L55: =IF(H55=$L$53, G55, 0) -> 0 | M55: =IF(H55=$M$53, G55, 0) -> 0 | N55: =IF(H55=$N$53, G55, 0) -> 0 | O55: =IF(H55=$O$53, G55, 0) -> 0 | P55: =IF(H55=$P$53, G55, 0) -> 0 | Q55: =IF(H55=$Q$53, G55, 0) -> 0 | R55: =IF(H55=$R$53, G55, 0) -> 0 | S55: =IF(H55=$S$53, G55, 0) -> 0 | T55: =IF(H55=$T$53, G55, 0) -> 0 | U55: =IF(H55=$U$53, G55, 0) -> 0 | V55: =IF(H55=$V$53, G55, 0) -> 0 | W55: =IF(H55=$W$53, G55, 0) -> 0 | X55: =IF(H55=$X$53, G55, 0) -> 0 | Y55: =IF(H55=$Y$53, G55, 0) -> 0 | Z55: =IF(H55=$Z$53, G55, 0) -> 0 | AA55: =IF(H55=$AA$53, G55, 0) -> 0 | AB55: =IF(H55=$AB$53, G55, 0) -> 0 | AC55: =IF(H55=$AC$53, G55, 0) -> 0 | AD55: =IF(H55=$AD$53, G55, 0) -> 0 | AE55: =IF(H55=$AE$53, G55, 0) -> 0 | AF55: =IF(H55=$AF$53, G55, 0) -> 0 | AG55: =IF(H55=$AG$53, G55, 0) -> 0
K56: =IF(G56="", "", IF(H56="", "Expense Type selection is required - if left blank, please provide separate written explanation", "")) | L56: =IF(H56=$L$53, G56, 0) -> 0 | M56: =IF(H56=$M$53, G56, 0) -> 0 | N56: =IF(H56=$N$53, G56, 0) -> 0 | O56: =IF(H56=$O$53, G56, 0) -> 0 | P56: =IF(H56=$P$53, G56, 0) -> 0 | Q56: =IF(H56=$Q$53, G56, 0) -> 0 | R56: =IF(H56=$R$53, G56, 0) -> 0 | S56: =IF(H56=$S$53, G56, 0) -> 0 | T56: =IF(H56=$T$53, G56, 0) -> 0 | U56: =IF(H56=$U$53, G56, 0) -> 0 | V56: =IF(H56=$V$53, G56, 0) -> 0 | W56: =IF(H56=$W$53, G56, 0) -> 0 | X56: =IF(H56=$X$53, G56, 0) -> 0 | Y56: =IF(H56=$Y$53, G56, 0) -> 0 | Z56: =IF(H56=$Z$53, G56, 0) -> 0 | AA56: =IF(H56=$AA$53, G56, 0) -> 0 | AB56: =IF(H56=$AB$53, G56, 0) -> 0 | AC56: =IF(H56=$AC$53, G56, 0) -> 0 | AD56: =IF(H56=$AD$53, G56, 0) -> 0 | AE56: =IF(H56=$AE$53, G56, 0) -> 0 | AF56: =IF(H56=$AF$53, G56, 0) -> 0 | AG56: =IF(H56=$AG$53, G56, 0) -> 0
K57: =IF(G57="", "", IF(H57="", "Expense Type selection is required - if left blank, please provide separate written explanation", "")) | L57: =IF(H57=$L$53, G57, 0) -> 0 | M57: =IF(H57=$M$53, G57, 0) -> 0 | N57: =IF(H57=$N$53, G57, 0) -> 0 | O57: =IF(H57=$O$53, G57, 0) -> 0 | P57: =IF(H57=$P$53, G57, 0) -> 0 | Q57: =IF(H57=$Q$53, G57, 0) -> 0 | R57: =IF(H57=$R$53, G57, 0) -> 0 | S57: =IF(H57=$S$53, G57, 0) -> 0 | T57: =IF(H57=$T$53, G57, 0) -> 0 | U57: =IF(H57=$U$53, G57, 0) -> 0 | V57: =IF(H57=$V$53, G57, 0) -> 0 | W57: =IF(H57=$W$53, G57, 0) -> 0 | X57: =IF(H57=$X$53, G57, 0) -> 0 | Y57: =IF(H57=$Y$53, G57, 0) -> 0 | Z57: =IF(H57=$Z$53, G57, 0) -> 0 | AA57: =IF(H57=$AA$53, G57, 0) -> 0 | AB57: =IF(H57=$AB$53, G57, 0) -> 0 | AC57: =IF(H57=$AC$53, G57, 0) -> 0 | AD57: =IF(H57=$AD$53, G57, 0) -> 0 | AE57: =IF(H57=$AE$53, G57, 0) -> 0 | AF57: =IF(H57=$AF$53, G57, 0) -> 0 | AG57: =IF(H57=$AG$53, G57, 0) -> 0
K58: =IF(G58="", "", IF(H58="", "Expense Type selection is required - if left blank, please provide separate written explanation", "")) | L58: =IF(H58=$L$53, G58, 0) -> 0 | M58: =IF(H58=$M$53, G58, 0) -> 0 | N58: =IF(H58=$N$53, G58, 0) -> 0 | O58: =IF(H58=$O$53, G58, 0) -> 0 | P58: =IF(H58=$P$53, G58, 0) -> 0 | Q58: =IF(H58=$Q$53, G58, 0) -> 0 | R58: =IF(H58=$R$53, G58, 0) -> 0 | S58: =IF(H58=$S$53, G58, 0) -> 0 | T58: =IF(H58=$T$53, G58, 0) -> 0 | U58: =IF(H58=$U$53, G58, 0) -> 0 | V58: =IF(H58=$V$53, G58, 0) -> 0 | W58: =IF(H58=$W$53, G58, 0) -> 0 | X58: =IF(H58=$X$53, G58, 0) -> 0 | Y58: =IF(H58=$Y$53, G58, 0) -> 0 | Z58: =IF(H58=$Z$53, G58, 0) -> 0 | AA58: =IF(H58=$AA$53, G58, 0) -> 0 | AB58: =IF(H58=$AB$53, G58, 0) -> 0 | AC58: =IF(H58=$AC$53, G58, 0) -> 0 | AD58: =IF(H58=$AD$53, G58, 0) -> 0 | AE58: =IF(H58=$AE$53, G58, 0) -> 0 | AF58: =IF(H58=$AF$53, G58, 0) -> 0 | AG58: =IF(H58=$AG$53, G58, 0) -> 0
K59: =IF(G59="", "", IF(H59="", "Expense Type selection is required - if left blank, please provide separate written explanation", "")) | L59: =IF(H59=$L$53, G59, 0) -> 0 | M59: =IF(H59=$M$53, G59, 0) -> 0 | N59: =IF(H59=$N$53, G59, 0) -> 0 | O59: =IF(H59=$O$53, G59, 0) -> 0 | P59: =IF(H59=$P$53, G59, 0) -> 0 | Q59: =IF(H59=$Q$53, G59, 0) -> 0 | R59: =IF(H59=$R$53, G59, 0) -> 0 | S59: =IF(H59=$S$53, G59, 0) -> 0 | T59: =IF(H59=$T$53, G59, 0) -> 0 | U59: =IF(H59=$U$53, G59, 0) -> 0 | V59: =IF(H59=$V$53, G59, 0) -> 0 | W59: =IF(H59=$W$53, G59, 0) -> 0 | X59: =IF(H59=$X$53, G59, 0) -> 0 | Y59: =IF(H59=$Y$53, G59, 0) -> 0 | Z59: =IF(H59=$Z$53, G59, 0) -> 0 | AA59: =IF(H59=$AA$53, G59, 0) -> 0 | AB59: =IF(H59=$AB$53, G59, 0) -> 0 | AC59: =IF(H59=$AC$53, G59, 0) -> 0 | AD59: =IF(H59=$AD$53, G59, 0) -> 0 | AE59: =IF(H59=$AE$53, G59, 0) -> 0 | AF59: =IF(H59=$AF$53, G59, 0) -> 0 | AG59: =IF(H59=$AG$53, G59, 0) -> 0
K60: =IF(G60="", "", IF(H60="", "Expense Type selection is required - if left blank, please provide separate written explanation", "")) | L60: =IF(H60=$L$53, G60, 0) -> 0 | M60: =IF(H60=$M$53, G60, 0) -> 0 | N60: =IF(H60=$N$53, G60, 0) -> 0 | O60: =IF(H60=$O$53, G60, 0) -> 0 | P60: =IF(H60=$P$53, G60, 0) -> 0 | Q60: =IF(H60=$Q$53, G60, 0) -> 0 | R60: =IF(H60=$R$53, G60, 0) -> 0 | S60: =IF(H60=$S$53, G60, 0) -> 0 | T60: =IF(H60=$T$53, G60, 0) -> 0 | U60: =IF(H60=$U$53, G60, 0) -> 0 | V60: =IF(H60=$V$53, G60, 0) -> 0 | W60: =IF(H60=$W$53, G60, 0) -> 0 | X60: =IF(H60=$X$53, G60, 0) -> 0 | Y60: =IF(H60=$Y$53, G60, 0) -> 0 | Z60: =IF(H60=$Z$53, G60, 0) -> 0 | AA60: =IF(H60=$AA$53, G60, 0) -> 0 | AB60: =IF(H60=$AB$53, G60, 0) -> 0 | AC60: =IF(H60=$AC$53, G60, 0) -> 0 | AD60: =IF(H60=$AD$53, G60, 0) -> 0 | AE60: =IF(H60=$AE$53, G60, 0) -> 0 | AF60: =IF(H60=$AF$53, G60, 0) -> 0 | AG60: =IF(H60=$AG$53, G60, 0) -> 0
K61: =IF(G61="", "", IF(H61="", "Expense Type selection is required - if left blank, please provide separate written explanation", "")) | L61: =IF(H61=$L$53, G61, 0) -> 0 | M61: =IF(H61=$M$53, G61, 0) -> 0 | N61: =IF(H61=$N$53, G61, 0) -> 0 | O61: =IF(H61=$O$53, G61, 0) -> 0 | P61: =IF(H61=$P$53, G61, 0) -> 0 | Q61: =IF(H61=$Q$53, G61, 0) -> 0 | R61: =IF(H61=$R$53, G61, 0) -> 0 | S61: =IF(H61=$S$53, G61, 0) -> 0 | T61: =IF(H61=$T$53, G61, 0) -> 0 | U61: =IF(H61=$U$53, G61, 0) -> 0 | V61: =IF(H61=$V$53, G61, 0) -> 0 | W61: =IF(H61=$W$53, G61, 0) -> 0 | X61: =IF(H61=$X$53, G61, 0) -> 0 | Y61: =IF(H61=$Y$53, G61, 0) -> 0 | Z61: =IF(H61=$Z$53, G61, 0) -> 0 | AA61: =IF(H61=$AA$53, G61, 0) -> 0 | AB61: =IF(H61=$AB$53, G61, 0) -> 0 | AC61: =IF(H61=$AC$53, G61, 0) -> 0 | AD61: =IF(H61=$AD$53, G61, 0) -> 0 | AE61: =IF(H61=$AE$53, G61, 0) -> 0 | AF61: =IF(H61=$AF$53, G61, 0) -> 0 | AG61: =IF(H61=$AG$53, G61, 0) -> 0
...

Sheet (B) Bingo Activity
A1: License | B1: ='CG Fin Report'!A11 -> ORG | C1: =IF('CG Fin Report'!B11="", "", 'CG Fin Report'!B11) | L1: CG-FIN-ORG Attachment B
A2: Org Name | B2: =IF('CG Fin Report'!D11="", "", 'CG Fin Report'!D11) | L2: ='CG Fin Report'!J2 -> Rev 10/26
A4: SUMMARY OF BINGO ACTIVITY
B6: Input "N/A" if this attachment/sheet is not applicable for your organization
A7: Bingo Receipts per Session
A8: Provide information below for all Bingo receipts per session. This information should agree to your internal accounting records. Attach additional copies of this chart if necessary and include the totals from the additional copies in the line included at the end of the table.
A9: Date | B9: # of Players | C9: Bingo Paper | E9: Card Minding | G9: Pickle Jar and etc. | I9: Cash (Short) / Over | K9: TOTAL
K10: =SUM(C10:J10) -> 0
K11: =SUM(C11:J11) -> 0
K12: =SUM(C12:J12) -> 0
K13: =SUM(C13:J13) -> 0
K14: =SUM(C14:J14) -> 0
K15: =SUM(C15:J15) -> 0
K16: =SUM(C16:J16) -> 0
K17: =SUM(C17:J17) -> 0
K18: =SUM(C18:J18) -> 0
K19: =SUM(C19:J19) -> 0
K20: =SUM(C20:J20) -> 0
K21: =SUM(C21:J21) -> 0
... K41: =SUM(C41:J41) -> 0
A42: Total of add'l sheets | K42: =SUM(C42:J42) -> 0
A43: TOTAL | B43: =SUM(B10:B42) -> 0 | C43: =SUM(C10:D42) -> 0 | E43: =SUM(E10:F42) -> 0 | G43: =SUM(G10:H42) -> 0 | I43: =SUM(I10:J42) -> 0 | K43: =SUM(C43:J43) -> 0 | O43: =K43 -> 0
A45: Bingo Payouts per Session
A46: Provide information below for all Bingo payouts per session. This information should agree to your internal accounting records. Attach additional copies of this chart if necessary and include the totals from the additional copies in the line included at the end of the table.
B47: Date | D47: Bingo Payouts by Cash & Check | G47: FMV / Cost of Purchased Prize * | J47: TOTAL
B48: =IF(A10="", "", A10) | J48: =SUM(D48:I48) -> 0
B49: =IF(A11="", "", A11) | J49: =SUM(D49:I49) -> 0
B50: =IF(A12="", "", A12) | J50: =SUM(D50:I50) -> 0
B51: =IF(A13="", "", A13) | J51: =SUM(D51:I51) -> 0
B52: =IF(A14="", "", A14) | J52: =SUM(D52:I52) -> 0
B53: =IF(A15="", "", A15) | J53: =SUM(D53:I53) -> 0
B54: =IF(A16="", "", A16) | J54: =SUM(D54:I54) -> 0
B55: =IF(A17="", "", A17) | J55: =SUM(D55:I55) -> 0
B56: =IF(A18="", "", A18) | J56: =SUM(D56:I56) -> 0
B57: =IF(A19="", "", A19) | J57: =SUM(D57:I57) -> 0
B58: =IF(A20="", "", A20) | J58: =SUM(D58:I58) -> 0
B59: =IF(A21="", "", A21) | J59: =SUM(D59:I59) -> 0
... B80: =IF(A42="", "", A42) -> Total of add'l sheets | J80: =SUM(D80:I80) -> 0
B81: =IF(A43="", "", A43) -> TOTAL | D81: =SUM(D48:F80) -> 0 | G81: =SUM(G48:I80) -> 0 | J81: =SUM(D81:I81) -> 0 | O81: =D81 -> 0 | P81: =G81 -> 0
A83: * Fair Market Value (FMV) amounts to determine $5,000 Payout Limit and 40%. Purchased prizes include Door Prizes, Bingo Game Prizes and Purchased Pulltabs
...

Sheet (C) Pulltab Activity
A1: License | B1: ='CG Fin Report'!A11 -> ORG | C1: =IF('CG Fin Report'!B11="", "", 'CG Fin Report'!B11) | M1: CG-FIN-ORG Attachment C
A2: Org Name | B2: =IF('CG Fin Report'!D11="", "", 'CG Fin Report'!D11) | M2: ='CG Fin Report'!J2 -> Rev 10/26
A4: SUMMARY OF PULLTAB ACTIVITY SOLD DURING BINGO SESSION
B5: Input "N/A" if this attachment/sheet is not applicable for your organization
A7: Pulltab Receipts per Session
A8: Provide information below for all Pulltab and Electronic Pulltab receipts per session. This information should agree to your internal accounting records. Attach additional copies of this chart if necessary and include the totals from the additional copies in the line included at the end of the table.
B9: PULL TAB RECEIPTS | L9: Electronic Pulltab Receipts
A10: Date | B10: Paper Pulltabs (including dispenser) | D10: Progressive Pulltabs | F10: Less: Pulltabs Given Away as Pulltab Game Prize | H10: Cash (Short) / Over | J10: TOTAL
J11: =B11+D11-F11+H11 -> 0
J12: =B12+D12-F12+H12 -> 0
J13: =B13+D13-F13+H13 -> 0
J14: =B14+D14-F14+H14 -> 0
J15: =B15+D15-F15+H15 -> 0
J16: =B16+D16-F16+H16 -> 0
J17: =B17+D17-F17+H17 -> 0
J18: =B18+D18-F18+H18 -> 0
J19: =B19+D19-F19+H19 -> 0
J20: =B20+D20-F20+H20 -> 0
J21: =B21+D21-F21+H21 -> 0
J22: =B22+D22-F22+H22 -> 0
... J42: =B42+D42-F42+H42 -> 0
A43: Total of add'l sheets | J43: =B43+D43-F43+H43 -> 0
A44: TOTAL | B44: =SUM(B11:C43) -> 0 | D44: =SUM(D11:E43) -> 0 | F44: =SUM(F11:G43) -> 0 | H44: =SUM(H11:I43) -> 0 | J44: =B44+D44-F44+H44 -> 0 | L44: =SUM(L11:M43) -> 0 | O44: =J44 -> 0 | P44: =L44 -> 0
A46: Pulltab Payouts per Session
A47: Provide information below for all Pulltab and Electronic Pulltab payouts per session. This information should agree to your internal accounting records. Attach additional copies of this chart if necessary and include the totals from the additional copies in the line included at the end of the table.
D48: PULL TAB PAYOUTS | L48: Electronic Pulltab Payouts by Cash & Check
B49: Date | D49: Paper Pulltabs Payout by Cash & Check (including dispenser) | F49: Progressive Payouts & Jackpots by Cash & Check | H49: FMV / Cost Purchase Prize | J49: TOTAL
B50: =IF(A11="", "", A11) | J50: =SUM(D50:I50) -> 0
B51: =IF(A12="", "", A12) | J51: =SUM(D51:I51) -> 0
B52: =IF(A13="", "", A13) | J52: =SUM(D52:I52) -> 0
B53: =IF(A14="", "", A14) | J53: =SUM(D53:I53) -> 0
B54: =IF(A15="", "", A15) | J54: =SUM(D54:I54) -> 0
B55: =IF(A16="", "", A16) | J55: =SUM(D55:I55) -> 0
B56: =IF(A17="", "", A17) | J56: =SUM(D56:I56) -> 0
B57: =IF(A18="", "", A18) | J57: =SUM(D57:I57) -> 0
B58: =IF(A19="", "", A19) | J58: =SUM(D58:I58) -> 0
B59: =IF(A20="", "", A20) | J59: =SUM(D59:I59) -> 0
B60: =IF(A21="", "", A21) | J60: =SUM(D60:I60) -> 0
B61: =IF(A22="", "", A22) | J61: =SUM(D61:I61) -> 0
... B82: =IF(A43="", "", A43) -> Total of add'l sheets | J82: =SUM(D82:I82) -> 0
...

Sheet (D) Other Pulltab Activity
A1: License | B1: ='CG Fin Report'!A11 -> ORG | C1: =IF('CG Fin Report'!B11="", "", 'CG Fin Report'!B11) | N1: CG-FIN-ORG Attachment D
A2: Org Name | B2: =IF('CG Fin Report'!D11="", "", 'CG Fin Report'!D11) | N2: ='CG Fin Report'!J2 -> Rev 10/26
A4: SUMMARY OF ALL PULLTAB ACTIVITY NOT SOLD DURING BINGO SESSION
B5: Input "N/A" if this attachment/sheet is not applicable for your organization
A7: Paper Pulltabs Not Sold During Bingo Session
A8: Provide information below for all Paper Pulltab activity not sold during a bingo session. This information should agree to your internal accounting records. Attach additional copies of this chart if necessary and include the totals from the additional copies in the line included at the end of the table.
A9: Date | B9: Dis-penser? | C9: Gross Receipts | E9: Cash (Short) / Over | G9: Pulltab Given Away | I9: Actual Gross Receipts | K9: Payouts by Cash & Check | M9: Merchandise Purchased Prizes
I10: =C10+E10-G10 -> 0
I11: =C11+E11-G11 -> 0
I12: =C12+E12-G12 -> 0
I13: =C13+E13-G13 -> 0
I14: =C14+E14-G14 -> 0
I15: =C15+E15-G15 -> 0
I16: =C16+E16-G16 -> 0
I17: =C17+E17-G17 -> 0
I18: =C18+E18-G18 -> 0
I19: =C19+E19-G19 -> 0
I20: =C20+E20-G20 -> 0
I21: =C21+E21-G21 -> 0
... I41: =C41+E41-G41 -> 0
A42: Total of add'l sheets | I42: =C42+E42-G42 -> 0
A43: TOTAL | C43: =SUM(C10:D42) -> 0 | E43: =SUM(E10:F42) -> 0 | G43: =SUM(G10:H42) -> 0 | I43: =C43+E43-G43 -> 0 | K43: =SUM(K10:L42) -> 0 | M43: =SUM(M10:N42) -> 0 | P43: =I43 -> 0 | Q43: =K43 -> 0 | R43: =M43 -> 0
A45: Electronic Pulltabs Not Sold During Bingo Session
A46: Provide information below for all Electronic Pulltab activity not sold during a bingo session. This information should agree to your internal accounting records. Attach additional copies of this chart if necessary and include the totals from the additional copies in the line included at the end of the table.
A47: Date | C47: Gross Receipts | E47: Cash (Short) / Over | G47: Pulltab Given Away | I47: Actual Gross Receipts | K47: Payouts by Cash & Check | M47: Merchandise Purchased Prizes
I48: =C48+E48-G48 -> 0
I49: =C49+E49-G49 -> 0
I50: =C50+E50-G50 -> 0
I51: =C51+E51-G51 -> 0
I52: =C52+E52-G52 -> 0
I53: =C53+E53-G53 -> 0
I54: =C54+E54-G54 -> 0
I55: =C55+E55-G55 -> 0
I56: =C56+E56-G56 -> 0
I57: =C57+E57-G57 -> 0
I58: =C58+E58-G58 -> 0
I59: =C59+E59-G59 -> 0
... I79: =C79+E79-G79 -> 0
A80: Total of add'l sheets | I80: =C80+E80-G80 -> 0
A81: TOTAL | C81: =SUM(C48:D80) -> 0 | E81: =SUM(E48:F80) -> 0 | G81: =SUM(G48:H80) -> 0 | I81: =C81+E81-G81 -> 0 | K81: =SUM(K48:L80) -> 0 | M81: =SUM(M48:N80) -> 0 | P81: =I81 -> 0 | Q81: =K81 -> 0 | R81: =M81 -> 0

Sheet (E) Raffles & NC Prize Wheels
A1: License | B1: ='CG Fin Report'!A11 -> ORG | C1: =IF('CG Fin Report'!B11="", "", 'CG Fin Report'!B11) | M1: CG-FIN-ORG Attachment E
A2: Org Name | B2: =IF('CG Fin Report'!D11="", "", 'CG Fin Report'!D11) | M2: ='CG Fin Report'!J2 -> Rev 10/26
A4: SUMMARY OF GAMING ACTIVITY - RAFFLES & NON-CASH PRIZE WHEELS
B5: Input "N/A" if this attachment/sheet is not applicable for your organization
A7: Raffle Receipts & Payouts
A8: Provide information below for all Raffle activity. This information should agree to your internal accounting records. Attach additional copies of this chart if necessary and include the totals from the additional copies in the line included at the end of the table.
A9: Date of Drawing | B9: Raffle Gross Receipts | D9: Cash (Short) / Over | F9: Total Gross | H9: Raffle Cash & Check Prizes | J9: Merchandise Prize Purchase Price | L9: Total Payouts
F10: =SUM(B10:E10) -> 0 | L10: =SUM(H10:K10) -> 0
F11: =SUM(B11:E11) -> 0 | L11: =SUM(H11:K11) -> 0
F12: =SUM(B12:E12) -> 0 | L12: =SUM(H12:K12) -> 0
F13: =SUM(B13:E13) -> 0 | L13: =SUM(H13:K13) -> 0
F14: =SUM(B14:E14) -> 0 | L14: =SUM(H14:K14) -> 0
F15: =SUM(B15:E15) -> 0 | L15: =SUM(H15:K15) -> 0
F16: =SUM(B16:E16) -> 0 | L16: =SUM(H16:K16) -> 0
F17: =SUM(B17:E17) -> 0 | L17: =SUM(H17:K17) -> 0
F18: =SUM(B18:E18) -> 0 | L18: =SUM(H18:K18) -> 0
F19: =SUM(B19:E19) -> 0 | L19: =SUM(H19:K19) -> 0
F20: =SUM(B20:E20) -> 0 | L20: =SUM(H20:K20) -> 0
F21: =SUM(B21:E21) -> 0 | L21: =SUM(H21:K21) -> 0
A22: Total of add'l sheets | F22: =SUM(B22:E22) -> 0 | L22: =SUM(H22:K22) -> 0
A23: TOTAL | B23: =SUM(B10:C22) -> 0 | D23: =SUM(D10:E22) -> 0 | F23: =SUM(B23:E23) -> 0 | H23: =SUM(H10:I22) -> 0 | J23: =SUM(J10:K22) -> 0 | L23: =SUM(H23:K23) -> 0 | O23: =F23 -> 0 | P23: =H23 -> 0 | Q23: =J23 -> 0
A25: Non-Cash Prize Wheel Receipts & Payouts
A26: Provide information below for all Non-Cash Prize Wheel activity. This information should agree to your internal accounting records. Attach additional copies of this chart if necessary and include the totals from the additional copies in the line included at the end of the table.
A27: Date | B27: Non-Cash Prize Wheel Receipts | D27: Cash (Short) / Over | F27: Total Gross | H27: Merchandise Prize Purchase Price
F28: =SUM(B28:E28) -> 0
F29: =SUM(B29:E29) -> 0
F30: =SUM(B30:E30) -> 0
F31: =SUM(B31:E31) -> 0
F32: =SUM(B32:E32) -> 0
F33: =SUM(B33:E33) -> 0
F34: =SUM(B34:E34) -> 0
F35: =SUM(B35:E35) -> 0
F36: =SUM(B36:E36) -> 0
F37: =SUM(B37:E37) -> 0
F38: =SUM(B38:E38) -> 0
F39: =SUM(B39:E39) -> 0
A40: Total of add'l sheets | F40: =SUM(B40:E40) -> 0
A41: TOTAL | B41: =SUM(B28:C40) -> 0 | D41: =SUM(D28:E40) -> 0 | F41: =SUM(B41:E41) -> 0 | H41: =SUM(H28:I40) -> 0 | O41: =F41 -> 0 | P41: =H41 -> 0

Sheet (F) Special Lic Activity
A1: License | B1: ='CG Fin Report'!A11 -> ORG | C1: =IF('CG Fin Report'!B11="", "", 'CG Fin Report'!B11) | L1: CG-FIN-ORG Attachment F
A2: Org Name | B2: =IF('CG Fin Report'!D11="", "", 'CG Fin Report'!D11) | L2: ='CG Fin Report'!J2 -> Rev 10/26
A4: SPECIAL LICENSE ACTIVITY
B5: Input "N/A" if this attachment/sheet is not applicable for your organization
A7: Special License Activity - Do NOT Report on Attachment B, C or D
A8: Provide information below for all Special License activity. Do not report this activity on Attachment B, C or D and include Bingo, Pulltabs, Raffles and Non-Cash Prize Wheels completed at the event. This information should agree to your internal accounting records. Attach additional copies of this chart if necessary and include the totals from the additional copies in the line included at the end of the table. (CFE = Charity Fundraising Event; SLCFE = Special Limited Charity Fundraising Event)
A9: Date of Event | B9: Type of Event (CFE or SLCFE) | C9: Gross Receipts | E9: Cash (Short) / Over | G9: Actual Gross Receipts | I9: Cash & Check Payouts | K9: Merchandise Purchase Price
G10: =SUM(C10:F10) -> 0
G11: =SUM(C11:F11) -> 0
G12: =SUM(C12:F12) -> 0
G13: =SUM(C13:F13) -> 0
G14: =SUM(C14:F14) -> 0
G15: =SUM(C15:F15) -> 0
G16: =SUM(C16:F16) -> 0
G17: =SUM(C17:F17) -> 0
G18: =SUM(C18:F18) -> 0
G19: =SUM(C19:F19) -> 0
A20: Total of add'l sheets | G20: =SUM(C20:F20) -> 0
A21: TOTAL | C21: =SUM(C10:D20) -> 0 | E21: =SUM(E10:F20) -> 0 | G21: =SUM(C21:F21) -> 0 | I21: =SUM(I10:J20) -> 0 | K21: =SUM(K10:L20) -> 0 | N21: =G21 -> 0 | O21: =I21 -> 0 | P21: =K21 -> 0
A23: Donated Cash and Prizes Received from Patrons for the Event
A24: Provide information below for all donated cash and prizes for the event. This information should agree to your internal accounting records. Donated Cash and Prizes are not included in the calculations on the CG Fin Report worksheet. Attach additional copies of this chart if necessary and include the totals from the additional copies in the line included at the end of the table.
A25: Date of Event | B25: Type of Event (CFE or SLCFE) | C25: FMV of Donated Prize | E25: Cash/Check Donations Received | G25: TOTAL
A26: =IF(A10="", "", A10) | B26: =IF(B10="", "", B10) | G26: =SUM(C26:F26) -> 0
A27: =IF(A11="", "", A11) | B27: =IF(B11="", "", B11) | G27: =SUM(C27:F27) -> 0
A28: =IF(A12="", "", A12) | B28: =IF(B12="", "", B12) | G28: =SUM(C28:F28) -> 0
A29: =IF(A13="", "", A13) | B29: =IF(B13="", "", B13) | G29: =SUM(C29:F29) -> 0
A30: =IF(A14="", "", A14) | B30: =IF(B14="", "", B14) | G30: =SUM(C30:F30) -> 0
A31: =IF(A15="", "", A15) | B31: =IF(B15="", "", B15) | G31: =SUM(C31:F31) -> 0
A32: =IF(A16="", "", A16) | B32: =IF(B16="", "", B16) | G32: =SUM(C32:F32) -> 0
A33: =IF(A17="", "", A17) | B33: =IF(B17="", "", B17) | G33: =SUM(C33:F33) -> 0
A34: =IF(A18="", "", A18) | B34: =IF(B18="", "", B18) | G34: =SUM(C34:F34) -> 0
A35: =IF(A19="", "", A19) | B35: =IF(B19="", "", B19) | G35: =SUM(C35:F35) -> 0
A36: Total of add'l sheets | G36: =SUM(C36:F36) -> 0
A37: TOTAL | C37: =SUM(C26:D36) -> 0 | E37: =SUM(E26:F36) -> 0 | G37: =SUM(C37:F37) -> 0

Sheet (G) Contrib & Transfers
A1: License | B1: ='CG Fin Report'!A11 -> ORG | C1: =IF('CG Fin Report'!B11="", "", 'CG Fin Report'!B11) | L1: CG-FIN-ORG Attachment G
A2: Org Name | B2: =IF('CG Fin Report'!D11="", "", 'CG Fin Report'!D11) | L2: ='CG Fin Report'!J2 -> Rev 10/26
A3: SUMMARY OF CONTRIBUTIONS AND TRANSFERS
B4: Input "N/A" if this attachment/sheet is not applicable for your organization
A5: Report of Charitable Contributions Made by Licensee
A6: Provide information below for all charitable expenditures from the charitable gaming account made by your organziation for charitable endeavors pursuant to KRS 238.550. This information should agree to your internal accounting records. Attach additional copies of this chart if necessary and include the totals from the additional copies in the line included at the end of the table.
A7: Date | B7: Check # / ACH | C7: Charitable Endeavor (Payee) | F7: Purpose | H7: Street Address / City / State | K7: Amount
A15: =IF(K16='(A) Gaming Account Info'!AE106, "", "ALERT: Contributions do not reconcile with Schedule A - please correct") | J15: Total from the attachments
A16: =IF(K16='(A) Gaming Account Info'!AE106, "Contributions on Schedule G reconcile with Schedule A", "") -> Contributions on Schedule G reconcile with Schedule A | J16: Total Charitable Contributions | K16: =SUM(K8:L15) -> 0
A18: Report of Transfers Made by Licensee
A19: Provide information below for all transfers made from the charitable gaming account to all other accounts operated by the organization. This information should agree to your internal accounting records. Attach additional copies of this chart if necessary and include the totals from the additional copies in the line included at the end of the table.
A20: Date | B20: Check # / ACH | C20: Bank Name | F20: Account Type | G20: Account Number | H20: Street Address / City / State | K20: Amount
A28: =IF(K29='(A) Gaming Account Info'!AF106, "", "ALERT: Transfers do not reconcile with Schedule A - please correct") | J28: Total from the attachments
A29: =IF(K29='(A) Gaming Account Info'!AF106, "Transfers on Schedule G reconcile with Schedule A", "") -> Transfers on Schedule G reconcile with Schedule A | J29: Total Transfers | K29: =SUM(K21:L28) -> 0

Sheet (H) Winners of $600+
A1: License | B1: ='CG Fin Report'!A11 -> ORG | C1: =IF('CG Fin Report'!B11="", "", 'CG Fin Report'!B11) | J1: CG-FIN-ORG Attachment H
A2: Org Name | B2: =IF('CG Fin Report'!D11="", "", 'CG Fin Report'!D11) | J2: ='CG Fin Report'!J2 -> Rev 10/26
A4: REPORT OF ALL WINNERS OF PRIZES WITH A FMV OF $600 OR MORE
B5: Input "N/A" if this attachment/sheet is not applicable for your organization
A6: Provide information below for all winners of prizes with a fair market value of $600 or more. This information should agree to your bank statement. Attach additional copies of this chart if necessary.
A7: Date | B7: Winner's Name | D7: Winner's Address | G7: Description of Prize (if not cash) | I7: Prize Value

Sheet (I) Pulltab Inventory
A1: License | B1: ='CG Fin Report'!A11 -> ORG | C1: =IF('CG Fin Report'!B11="", "", 'CG Fin Report'!B11) | J1: CG-FIN-ORG Attachment I
A2: Org Name | B2: =IF('CG Fin Report'!D11="", "", 'CG Fin Report'!D11) | J2: ='CG Fin Report'!J2 -> Rev 10/26
A4: CHARITY GAME TICKETS AND PULLTABS INVENTORY
B5: Input "N/A" if this attachment/sheet is not applicable for your organization
A6: Provide information below for inventory of game tickets and pulltabs. Attach additional copies if necessary.
A7: Date | B7: Name of Game | E7: Manufacturer Name | H7: Form Number | I7: Serial Number | J7: Ticket Count
B29: Person Conducting Inventory | H29: Date

Sheet (J) Bingo Inventory
A1: License | B1: ='CG Fin Report'!A11 -> ORG | C1: =IF('CG Fin Report'!B11="", "", 'CG Fin Report'!B11) | J1: CG-FIN-ORG Attachment J
A2: Org Name | B2: =IF('CG Fin Report'!D11="", "", 'CG Fin Report'!D11) | J2: ='CG Fin Report'!J2 -> Rev 10/26
A4: BINGO PAPER SUPPLIES INVENTORY
B5: Input "N/A" if this attachment/sheet is not applicable for your organization
A6: Provide information below for inventory of bingo paper supplies. Attach additional copies if necessary.
A7: Date | B7: Product Description (e.g., 9 ON 9 UP) | E7: Manufacturer Name | H7: Serial Number | J7: Total # Packs/Sheets
B29: Person Conducting Inventory | H29: Date

Sheet OFFICE USE ONLY
A2: REPORT_TYPE | C2: Expense_Type
A3: 1st Quarter (Jan - Mar) | C3: Purchase or Rental of Bingo Paper, Pulltabs, Electronic Pulltabs, Equipment & Card Minding
A4: 2nd Quarter (Apr - Jun) | C4: Facility Rent
A5: 3rd Quarter (Jul - Sep) | C5: Janitorial Services
A6: 4th Quarter (Oct - Dec) | C6: Security
A7: Annual (Jan - Dec) | C7: Accounting & Bookkeeping Services
C8: Payments to Chairperson(s) for ID Checks
A9: County | C9: Payments to Chairperson(s) to attend KHRG Training(s)
A10: Adair | C10: Advertising & Promotions
A11: Allen | C11: Fees for Bank, Credit Card, Check Verification & Bad Check Collection
A12: Anderson | C12: Printing
A13: Ballard | C13: Volunteer Food, Clothing & Raffle Sellers Incentive
A14: Barren | C14: Utilities (Telephone, Electric, Gas, Water, Sewer, Trash)
A15: Bath | C15: Insurance
A16: Bell | C16: Fines to Charitable Gaming
A17: Boone | C17: Sales/Use Tax on Gaming Supplies & Equipment
A18: Bourbon | C18: Fees to Charitable Gaming
A19: Boyd | C19: Prizes Purchased
A20: Boyle | C20: Prizes Awarded by Check/ACH
... A24: Bullitt | C24: Start-up Cash
A25: Butler
A26: Caldwell | C26: Y_N
A27: Calloway | C27: Yes
A28: Campbell | C28: No
A29: Carlisle
A30: Carroll | C30: Event_Type
A31: Carter | C31: CFE
A32: Casey | C32: SLCFE
A33: Christian
A34: Clark
A35: Clay
A36: Clinton
A37: Crittenden
A38: Cumberland
A39: Daviess
A40: Edmonson
A41: Elliott
A42: Estill
A43: Fayette
A44: Fleming
...
